BEGIN:VCALENDAR
VERSION:2.0
PRODID:-//jEvents 2.0 for Joomla//EN
CALSCALE:GREGORIAN
METHOD:PUBLISH
BEGIN:VEVENT
UID:72b2d1d7f7718faa43deb912817a7ba4
CATEGORIES:Planning Commission
CREATED:19700101T000000
SUMMARY: Planning Commission Meetings
LOCATION:Bremerton
DESCRIPTION:Planning Commission Meetings via Zoom, every other Tuesday at 5:30 PM. Feb 
 6, 20, March 5, 19. \nublic comments at meeting, 2 minutes.  ( 9 member PC 
 will be making a recommendation to the Commissioners)\n\n Planning Commissi
 on site (https://www.kitsap.gov/dcd/Pages/PlanningCommission.aspx)\n
X-ALT-DESC;FMTTYPE=text/html:<p>Planning Commission Meetings via Zoom, every other Tuesday at 5:30 PM. F
 eb 6, 20,&nbsp;<b>March 5</b>, 19.&nbsp;<br />ublic comments at meeting, 2 
 minutes.&nbsp; ( 9 member PC will be making a recommendation to the Commiss
 ioners)<br /><br /><a href="https://www.kitsap.gov/dcd/Pages/PlanningCommis
 sion.aspx" target="_blank" rel="noopener">&nbsp;Planning Commission site</a
 ></p>
DTSTAMP:20260422T221646
DTSTART:20240206T173000
SEQUENCE:0
RRULE:FREQ=MONTHLY;UNTIL=20250205T000000Z;INTERVAL=1;BYDAY=+1TU,+3TU
TRANSP:OPAQUE
END:VEVENT
BEGIN:VEVENT
UID:72b2d1d7f7718faa43deb912817a7ba4
CATEGORIES:Planning Commission
CREATED:20240204T201357
SUMMARY: Planning Commission Meetings
LOCATION:Bremerton
DESCRIPTION:Planning Commission Meetings via Zoom, every other Tuesday at 5:30 PM. Feb 
 6, 20, March 5, 19. \nublic comments at meeting, 2 minutes.  ( 9 member PC 
 will be making a recommendation to the Commissioners)\n\n Planning Commissi
 on site (https://www.kitsap.gov/dcd/Pages/PlanningCommission.aspx)\n\n\n\nU
 pcoming important date to make public comment about the Comprehensive plan 
 and the Raydient rezoning proposal. \nThe County Planning Commission will b
 e making recommendations to the Commissioners about the Comprehensive plan,
  \nand there is a hearing scheduled on Tuesday March 5th at 5:30. Public co
 mment will be part of the hearing. \n \n-The Board of County Commissioners 
 have the final decision ( April 8th). but this Planning Commission recommen
 dation is important as well. \n-You may want to think about saying somethin
 g about overall preservation of Kitsap’s remaining forestlands, as there ar
 e other rezoning requests in the comprehensive plan similar to Raydient’s s
 uch as the Island Lake proposed development in Silverdale. \nYou can attend
  by Zoom and make a three-minute comment at the hearing. \nPublic comment b
 y Zoom is easy to do and very effective, well worth the time. \n (https://w
 ww.kitsap.gov/dcd/Pages/PlanningCommission.aspx)https://www.kitsap.gov/dcd/
 Pages/PlanningCommission.aspx (https://www.kitsap.gov/dcd/Pages/PlanningCom
 mission.aspx)\nThanks everyone! It takes us all to protect Kitsap’s natural
  environment. \nBeth Nichols \n
X-ALT-DESC;FMTTYPE=text/html:<p>Planning Commission Meetings via Zoom, every other Tuesday at 5:30 PM. F
 eb 6, 20,&nbsp;<b>March 5</b>, 19.&nbsp;<br />ublic comments at meeting, 2 
 minutes.&nbsp; ( 9 member PC will be making a recommendation to the Commiss
 ioners)<br /><br /><a href="https://www.kitsap.gov/dcd/Pages/PlanningCommis
 sion.aspx" target="_blank" rel="noopener">&nbsp;Planning Commission site</a
 ><br /><br /><br /></p><p><strong>Upcoming important date to make public co
 mment about the Comprehensive plan and the Raydient rezoning proposal.&nbsp
 ;</strong></p><p><strong>The County Planning Commission will be making reco
 mmendations to the Commissioners about the Comprehensive plan,&nbsp;</stron
 g></p><p><strong>and there is a hearing scheduled on&nbsp;Tuesday March 5<s
 up>th</sup>&nbsp;at 5:30. Public comment will be part of the hearing.&nbsp;
 </strong></p><p><strong>&nbsp;</strong></p><p>-The Board of County Commissi
 oners have the final decision ( April 8<sup>th</sup>). but this Planning Co
 mmission recommendation is important as well.&nbsp;</p><p>-You may want to 
 think about saying something about overall preservation of Kitsap’s remaini
 ng forestlands, as there are other rezoning requests in the comprehensive p
 lan similar to Raydient’s such as the Island Lake proposed development in S
 ilverdale.&nbsp;</p><p>You can attend by Zoom and make a three-minute comme
 nt at the hearing.&nbsp;</p><p>Public comment by Zoom is easy to do and ver
 y effective, well worth the time.&nbsp;</p><p><a href="https://www.kitsap.g
 ov/dcd/Pages/PlanningCommission.aspx"></a><a href="https://www.kitsap.gov/d
 cd/Pages/PlanningCommission.aspx">https://www.kitsap.gov/dcd/Pages/Planning
 Commission.aspx</a></p><p>Thanks everyone! It takes us all to protect Kitsa
 p’s natural environment.&nbsp;</p><p>Beth Nichols&nbsp;</p>
URL;VALUE=URI:https://mail.stopbondrezone.info/updates/events-calendar/eventdetail/1854/-
 /planning-commission-meetings?tmpl=component

DTSTAMP:20260422T221646
DTSTART:20240305T173000
DTEND:20240305T235959
RECURRENCE-ID:20240305T173000
SEQUENCE:0
TRANSP:OPAQUE
END:VEVENT
BEGIN:VEVENT
UID:72b2d1d7f7718faa43deb912817a7ba4
CATEGORIES:Planning Commission
CREATED:20240204T201357
SUMMARY: Planning Commission Meetings
LOCATION:Bremerton
DESCRIPTION:03/26/2024\nSPECIAL MEETING due to 3/19 meeting cancellation\nClick the lin
 k below to join the webinar:\n (https://us02web.zoom.us/j/89520713643)https
 ://us02web.zoom.us/j/89520713643\nWebinar ID: 895 2071 3643\nPasscode: 9872
 06\nOr join by phone: 253-215-8782 \n​Agenda (https://www.kitsap.gov/dcd/PC
 Docs/2024.03.26%20-%20PC%20SPECIAL%20Mtg%20-%20Agenda_HYBRID.pdf)\n\n2024 C
 ritical Areas Ordinance (CAO) Update\n- Draft Code Change Matrix (https://w
 ww.kitsap.gov/dcd/PCDocs/2024.03.19%20PC%20Mtg%20-%202024%20CAO%20Update%20
 -%20Code%20Change%20Matrix.pdf)\n- Draft Proposed Code Amendments (https://
 www.kitsap.gov/dcd/PCDocs/2024.03.19%20PC%20Mtg%20-%202024%20CAO%20Update%2
 0-%20Proposed%20Code%20Amendments.pdf)\n- Briefing Presentation on Draft Ch
 anges (3/19)\n\n2024 Comprehensive\nPlan Update\n - Presentation (3/19)\n\n
 Planning Commission Meetings via Zoom, every other Tuesday at 5:30 PM. Feb 
 6, 20, March 5, March 26\nublic comments at meeting, 2 minutes.  ( 9 member
  PC will be making a recommendation to the Commissioners)\n\n Planning Comm
 ission site (https://www.kitsap.gov/dcd/Pages/PlanningCommission.aspx)\n
X-ALT-DESC;FMTTYPE=text/html:<p><strong>03/26/2024</strong><br /><em class="ms-rteForeColor-2">SPECIAL M
 EETING due to 3/19 meeting cancellation</em><br />Click the link below to j
 oin the webinar:</p><p><a href="https://us02web.zoom.us/j/89520713643"></a>
 <a href="https://us02web.zoom.us/j/89520713643">https://us02web.zoom.us/j/8
 9520713643</a></p><p>Webinar ID: 895 2071 3643<br />Passcode: 987206<br />O
 r join by phone: 253-215-8782&nbsp;</p><p><a href="https://www.kitsap.gov/d
 cd/PCDocs/2024.03.26%20-%20PC%20SPECIAL%20Mtg%20-%20Agenda_HYBRID.pdf"><str
 ong>​Agenda</strong></a><br /><br />2024 Critical Areas Ordinance (CAO) Upd
 ate<br /><a href="https://www.kitsap.gov/dcd/PCDocs/2024.03.19%20PC%20Mtg%2
 0-%202024%20CAO%20Update%20-%20Code%20Change%20Matrix.pdf">-&nbsp;Draft&nbs
 p;Code Change Matrix</a><br /><a href="https://www.kitsap.gov/dcd/PCDocs/20
 24.03.19%20PC%20Mtg%20-%202024%20CAO%20Update%20-%20Proposed%20Code%20Amend
 ments.pdf">- Draft&nbsp;Proposed Code Amendments</a><br />-&nbsp;<a href="h
 ttps://www.kitsap.gov/dcd/PCDocs/031924_CAO%20Update_Planning%20Commission%
 20Breifing%20on%20Draft%20Changes.pdf" title="Presentation">Briefing Presen
 tation&nbsp;on Draft Changes (3/19)</a><br /><br />2024 Comprehensive<br />
 Plan Update<br />&nbsp;<a href="https://www.kitsap.gov/dcd/PCDocs/2024.03.1
 9%20PC%20Mtg%20-%202024%20Comp%20Plan%20-%20Presentation.pdf">- Presentatio
 n&nbsp;(3/19)</a><br /><br />Planning Commission Meetings via Zoom, every o
 ther Tuesday at 5:30 PM. Feb 6, 20,&nbsp;<b>March 5</b>, March 26<br />ubli
 c comments at meeting, 2 minutes.&nbsp; ( 9 member PC will be making a reco
 mmendation to the Commissioners)<br /><br /><a href="https://www.kitsap.gov
 /dcd/Pages/PlanningCommission.aspx" target="_blank" rel="noopener">&nbsp;Pl
 anning Commission site</a></p>
URL;VALUE=URI:https://mail.stopbondrezone.info/updates/events-calendar/eventdetail/1855/-
 /planning-commission-meetings?tmpl=component

DTSTAMP:20260422T221646
DTSTART:20240326T173000
DTEND:20240326T235959
RECURRENCE-ID:20240319T173000
SEQUENCE:0
TRANSP:OPAQUE
END:VEVENT
END:VCALENDAR