BEGIN:VCALENDAR
VERSION:2.0
PRODID:-//jEvents 2.0 for Joomla//EN
CALSCALE:GREGORIAN
METHOD:PUBLISH
BEGIN:VEVENT
UID:523c9a032bc6369da316f6df5455cbaa
CATEGORIES:County Board of Commissioners
CREATED:19700101T000000
SUMMARY:Board of County Commissioners Meeting
LOCATION:Kitsap
DESCRIPTION:<p>Board of County Commissioners Meeting&nbsp;<br />Come in person or on Zo
 om&nbsp;and give your opinion during the Public comments at end of meeting,
  2 minutes.</p><p>Zoom link:&nbsp;<a href="https://us02web.zoom.us/j/860468
 79055">https://us02web.zoom.us/j/86046879055</a></p><p><a href="https://www
 .kitsap.gov/BOC_p/Pages/default.aspx" target="_blank" rel="noopener">County
  Commissioners site</a></p><p>&nbsp;</p><p>&nbsp;</p>
DTSTAMP:20260420T223633
DTSTART:20240212T173000
SEQUENCE:0
RRULE:FREQ=MONTHLY;COUNT=9999;INTERVAL=1;BYDAY=+2MO,+4MO
TRANSP:OPAQUE
END:VEVENT
END:VCALENDAR