BEGIN:VCALENDAR
VERSION:2.0
PRODID:-//jEvents 2.0 for Joomla//EN
CALSCALE:GREGORIAN
METHOD:PUBLISH
BEGIN:VEVENT
UID:df4c75871f4469f2779f5027283142f5
CATEGORIES:Local Events
CREATED:19700101T000000
SUMMARY:KCAC Meeting
LOCATION:Kingston Village Green
DESCRIPTION:Kingston Village Green : Monthly in person or on Zoom, 2nd Wed of month, 6:
 30. Can comment in person or ask to have comments read, 2 minute limit. Man
 y Kingston Rotary attend and other influential Kingston folks, sometimes Co
 mm. Rolfes. \n
X-ALT-DESC;FMTTYPE=text/html:<p>Kingston Village Green : Monthly in person or on Zoom, 2nd Wed of month,
  6:30. Can comment in person or ask to have comments read, 2 minute limit. 
 Many Kingston Rotary attend and other influential Kingston folks, sometimes
  Comm. Rolfes.&nbsp;</p>
DTSTAMP:20260421T024603
DTSTART:20240214T080000
DTEND:20240214T170000
SEQUENCE:0
RRULE:FREQ=MONTHLY;COUNT=100;INTERVAL=1;BYDAY=+2WE
TRANSP:OPAQUE
END:VEVENT
END:VCALENDAR