BEGIN:VCALENDAR
VERSION:2.0
PRODID:-//jEvents 2.0 for Joomla//EN
CALSCALE:GREGORIAN
METHOD:PUBLISH
BEGIN:VEVENT
UID:066f4ba63eb0ead52afe594add4e01cb
CATEGORIES:Local Events
CREATED:20250513T233136
SUMMARY:North Kitsap United Meeting Poulsbo
LOCATION:North Kitsap Auditorium 1881 Hostmark St Poulsbo
DESCRIPTION:John Rose event with North Kitsap United Meeting\nat North Kitsap Auditoriu
 m 1881 Hostmark St Poulsbo\n
X-ALT-DESC;FMTTYPE=text/html:<p>John Rose event with North Kitsap United Meeting<br />at <strong>North K
 itsap Auditorium 1881 Hostmark St Poulsbo</strong></p>
DTSTAMP:20260422T103912
DTSTART:20250520T180000
SEQUENCE:0
TRANSP:OPAQUE
END:VEVENT
END:VCALENDAR