BEGIN:VCALENDAR
VERSION:2.0
PRODID:-//jEvents 2.0 for Joomla//EN
CALSCALE:GREGORIAN
METHOD:PUBLISH
BEGIN:VEVENT
UID:a2f4ab5aa795b80fc00aeb745ac2d00d
CATEGORIES:Local Events
CREATED:20250513T233543
SUMMARY:North Kitsap United Meeting in Kingston
LOCATION:Village Green Community Center Kingston
DESCRIPTION:John Rose event with North Kitsap United Meeting\nat Village Green Communit
 y Center Kingston\n
X-ALT-DESC;FMTTYPE=text/html:<p>John Rose event with North Kitsap United Meeting<br />at Village Green C
 ommunity Center Kingston</p>
DTSTAMP:20260422T105053
DTSTART:20250521T180000
SEQUENCE:0
TRANSP:OPAQUE
END:VEVENT
END:VCALENDAR