BEGIN:VCALENDAR
VERSION:2.0
PRODID:-//jEvents 2.0 for Joomla//EN
CALSCALE:GREGORIAN
METHOD:PUBLISH
BEGIN:VEVENT
UID:72b2d1d7f7718faa43deb912817a7ba4
CATEGORIES:Planning Commission
CREATED:20240204T201357
SUMMARY: Planning Commission Meetings
LOCATION:Bremerton
DESCRIPTION:Planning Commission Meetings via Zoom, every other Tuesday at 5:30 PM. Feb 
 6, 20, March 5, 19. \nublic comments at meeting, 2 minutes.  ( 9 member PC 
 will be making a recommendation to the Commissioners)\n\n Planning Commissi
 on site (https://www.kitsap.gov/dcd/Pages/PlanningCommission.aspx)\n
X-ALT-DESC;FMTTYPE=text/html:<p>Planning Commission Meetings via Zoom, every other Tuesday at 5:30 PM. F
 eb 6, 20,&nbsp;<b>March 5</b>, 19.&nbsp;<br />ublic comments at meeting, 2 
 minutes.&nbsp; ( 9 member PC will be making a recommendation to the Commiss
 ioners)<br /><br /><a href="https://www.kitsap.gov/dcd/Pages/PlanningCommis
 sion.aspx" target="_blank" rel="noopener">&nbsp;Planning Commission site</a
 ></p>
DTSTAMP:20260422T221647
DTSTART:20240917T173000
SEQUENCE:0
TRANSP:OPAQUE
END:VEVENT
END:VCALENDAR