BEGIN:VCALENDAR
VERSION:2.0
PRODID:-//jEvents 2.0 for Joomla//EN
CALSCALE:GREGORIAN
METHOD:PUBLISH
BEGIN:VEVENT
UID:523c9a032bc6369da316f6df5455cbaa
CATEGORIES:County Board of Commissioners
CREATED:20230831T060255
SUMMARY:Board of County Commissioners Meeting
LOCATION:Kitsap
DESCRIPTION:Board of County Commissioners Meeting \nCome in person or on Zoom and give 
 your opinion during the Public comments at end of meeting, 2 minutes.\nZoom
  link: https://us02web.zoom.us/j/86046879055 (https://us02web.zoom.us/j/860
 46879055)\nCounty Commissioners site (https://www.kitsap.gov/BOC_p/Pages/de
 fault.aspx)\n \n \n
X-ALT-DESC;FMTTYPE=text/html:<p>Board of County Commissioners Meeting&nbsp;<br />Come in person or on Zo
 om&nbsp;and give your opinion during the Public comments at end of meeting,
  2 minutes.</p><p>Zoom link:&nbsp;<a href="https://us02web.zoom.us/j/860468
 79055">https://us02web.zoom.us/j/86046879055</a></p><p><a href="https://www
 .kitsap.gov/BOC_p/Pages/default.aspx" target="_blank" rel="noopener">County
  Commissioners site</a></p><p>&nbsp;</p><p>&nbsp;</p>
DTSTAMP:20260420T223034
DTSTART:20260810T173000
SEQUENCE:0
TRANSP:OPAQUE
END:VEVENT
END:VCALENDAR